View In:
ArcGIS JavaScript
ArcGIS Online Map Viewer
ArcGIS Earth
Service Description: Flaechennutzungsplaene_Raster
Name: Flaechennutzungsplaene_Raster
Description:
Single Fused Map Cache: false
Extent:
XMin: 524739.5559069858
YMin: 5436454.507768036
XMax: 563270.4708429858
YMax: 5475912.405436036
Spatial Reference: 25832
(25832)
LatestVCSWkid(0)
Initial Extent:
XMin: 524739.5559069858
YMin: 5436454.507768036
XMax: 563270.4708429858
YMax: 5475912.405436036
Spatial Reference: 25832
(25832)
LatestVCSWkid(0)
Full Extent:
XMin: 524739.5559069858
YMin: 5436454.507768036
XMax: 563270.4708429858
YMax: 5475912.405436036
Spatial Reference: 25832
(25832)
LatestVCSWkid(0)
Pixel Size X: 0.041361000000000016
Pixel Size Y: 0.04136100000000033
Band Count: 3
Pixel Type: U8
RasterFunction Infos: {"rasterFunctionInfos": [{
"name": "None",
"description": "",
"help": ""
}]}
Mensuration Capabilities: Basic
Inspection Capabilities:
Has Histograms: true
Has Colormap: false
Has Multi Dimensions : false
Rendering Rule:
Min Scale: 0
Max Scale: 0
Copyright Text:
Edit Fields Info:
- Creation Date Field: created_date
- Creator Field: created_user
- Edit Date Field: last_edited_date
- Editor Field: last_edited_user
Ownership Based Access Control:
- Allow Others to Update: true
- Allow Others to Delete: true
Service Data Type: esriImageServiceDataTypeRGB
Min Values: 0, 0, 0
Max Values: 255, 255, 255
Mean Values: 213.5437294991559, 210.679568226383, 205.35593495666535
Standard Deviation Values: 79.9947735471993, 79.41932280058289, 80.38913604149009
Object ID Field: objectid
Fields:
-
objectid
(
type: esriFieldTypeOID, alias: objectid
)
-
name
(
type: esriFieldTypeString, alias: name, length: 200
)
-
minps
(
type: esriFieldTypeDouble, alias: minps
)
-
maxps
(
type: esriFieldTypeDouble, alias: maxps
)
-
lowps
(
type: esriFieldTypeDouble, alias: lowps
)
-
highps
(
type: esriFieldTypeDouble, alias: highps
)
-
category
(
type: esriFieldTypeInteger, alias: category
, Coded Values:
[0: Unknown]
, [1: Primary]
, [2: Overview]
, ...6 more...
)
-
tag
(
type: esriFieldTypeString, alias: tag, length: 100
)
-
groupname
(
type: esriFieldTypeString, alias: groupname, length: 100
)
-
productname
(
type: esriFieldTypeString, alias: productname, length: 100
)
-
centerx
(
type: esriFieldTypeDouble, alias: centerx
)
-
centery
(
type: esriFieldTypeDouble, alias: centery
)
-
zorder
(
type: esriFieldTypeInteger, alias: zorder
)
-
created_user
(
type: esriFieldTypeString, alias: created_user, length: 255
)
-
created_date
(
type: esriFieldTypeDate, alias: created_date, length: 8
)
-
last_edited_user
(
type: esriFieldTypeString, alias: last_edited_user, length: 255
)
-
last_edited_date
(
type: esriFieldTypeDate, alias: last_edited_date, length: 8
)
-
shape
(
type: esriFieldTypeGeometry, alias: shape
)
-
st_area(shape)
(
type: esriFieldTypeDouble, alias: st_area(shape)
)
-
st_length(shape)
(
type: esriFieldTypeDouble, alias: st_length(shape)
)
Default Mosaic Method: Northwest
Allowed Mosaic Methods: NorthWest,Center,LockRaster,ByAttribute,Nadir,Viewpoint,Seamline,None
SortField:
SortValue: null
Mosaic Operator: First
Default Compression Quality: 75
Default Resampling Method: Bilinear
Max Record Count: 1000
Max Image Height: 4100
Max Image Width: 15000
Max Download Image Count: 20
Max Mosaic Image Count: 20
Allow Raster Function: true
Allow Copy: true
Allow Analysis: true
Allow Compute TiePoints: false
Supports Statistics: true
Supports Advanced Queries: true
Use StandardizedQueries: true
Raster Type Infos:
Name: Raster Dataset
Description: Supports all ArcGIS Raster Datasets
Help:
Has Raster Attribute Table: false
Edit Fields Info: {"creationDateField":"created_date","creatorField":"created_user","editDateField":"last_edited_date","editorField":"last_edited_user"}
Ownership Based AccessControl For Rasters: {"allowOthersToDelete":true,"allowOthersToUpdate":true}
Child Resources:
Info
Histograms
Statistics
Key Properties
Legend
Raster Function Infos
Supported Operations:
Export Image
Query
Identify
Measure
Compute Histograms
Compute Statistics Histograms
Get Samples
Compute Class Statistics
Query GPS Info
Find Images
Image to Map
Map to Image
Measure from Image
Image to Map Multiray
Query Boundary
Compute Pixel Location
Compute Angles
Validate
Project