View In:
ArcGIS JavaScript
ArcGIS Online Map Viewer
ArcGIS Earth
Service Description: Bebauungsplaene_Raster
Name: Bebauungsplaene_Raster
Description:
Single Fused Map Cache: false
Extent:
XMin: -0.5100770165783017
YMin: -9448.508208128624
XMax: 562385.6106589835
YMax: 5474954.246479871
Spatial Reference: 25832
(25832)
LatestVCSWkid(0)
Initial Extent:
XMin: -0.5100770165783017
YMin: -9448.508208128624
XMax: 562385.6106589835
YMax: 5474954.246479871
Spatial Reference: 25832
(25832)
LatestVCSWkid(0)
Full Extent:
XMin: -0.5100770165783017
YMin: -9448.508208128624
XMax: 562385.6106589835
YMax: 5474954.246479871
Spatial Reference: 25832
(25832)
LatestVCSWkid(0)
Pixel Size X: 0.013472
Pixel Size Y: 0.013471999999999998
Band Count: 3
Pixel Type: U8
RasterFunction Infos: {"rasterFunctionInfos": [{
"name": "None",
"description": "",
"help": ""
}]}
Mensuration Capabilities: Basic
Inspection Capabilities:
Has Histograms: true
Has Colormap: false
Has Multi Dimensions : false
Rendering Rule:
Min Scale: 0
Max Scale: 0
Copyright Text:
Edit Fields Info:
- Creation Date Field: created_date
- Creator Field: created_user
- Edit Date Field: last_edited_date
- Editor Field: last_edited_user
Ownership Based Access Control:
- Allow Others to Update: true
- Allow Others to Delete: true
Service Data Type: esriImageServiceDataTypeRGB
Min Values: 0, 0, 0
Max Values: 255, 255, 255
Mean Values: 227.54044768344454, 206.06673309303898, 213.04088549645255
Standard Deviation Values: 62.01049310361639, 73.74870986641746, 67.36212851196903
Object ID Field: objectid
Fields:
-
objectid
(
type: esriFieldTypeOID, alias: objectid
)
-
name
(
type: esriFieldTypeString, alias: name, length: 200
)
-
minps
(
type: esriFieldTypeDouble, alias: minps
)
-
maxps
(
type: esriFieldTypeDouble, alias: maxps
)
-
lowps
(
type: esriFieldTypeDouble, alias: lowps
)
-
highps
(
type: esriFieldTypeDouble, alias: highps
)
-
category
(
type: esriFieldTypeInteger, alias: category
, Coded Values:
[0: Unknown]
, [1: Primary]
, [2: Overview]
, ...6 more...
)
-
tag
(
type: esriFieldTypeString, alias: tag, length: 100
)
-
groupname
(
type: esriFieldTypeString, alias: groupname, length: 100
)
-
productname
(
type: esriFieldTypeString, alias: productname, length: 100
)
-
centerx
(
type: esriFieldTypeDouble, alias: centerx
)
-
centery
(
type: esriFieldTypeDouble, alias: centery
)
-
zorder
(
type: esriFieldTypeInteger, alias: zorder
)
-
shape
(
type: esriFieldTypeGeometry, alias: shape
)
-
created_user
(
type: esriFieldTypeString, alias: created_user, length: 255
)
-
created_date
(
type: esriFieldTypeDate, alias: created_date, length: 8
)
-
last_edited_user
(
type: esriFieldTypeString, alias: last_edited_user, length: 255
)
-
last_edited_date
(
type: esriFieldTypeDate, alias: last_edited_date, length: 8
)
-
st_area(shape)
(
type: esriFieldTypeDouble, alias: st_area(shape)
)
-
st_length(shape)
(
type: esriFieldTypeDouble, alias: st_length(shape)
)
Default Mosaic Method: Northwest
Allowed Mosaic Methods: NorthWest,Center,LockRaster,ByAttribute,Nadir,Viewpoint,Seamline,None
SortField:
SortValue: null
Mosaic Operator: First
Default Compression Quality: 75
Default Resampling Method: Bilinear
Max Record Count: 1000
Max Image Height: 4100
Max Image Width: 15000
Max Download Image Count: 20
Max Mosaic Image Count: 20
Allow Raster Function: true
Allow Copy: true
Allow Analysis: true
Allow Compute TiePoints: false
Supports Statistics: true
Supports Advanced Queries: true
Use StandardizedQueries: true
Raster Type Infos:
Name: Raster Dataset
Description: Supports all ArcGIS Raster Datasets
Help:
Has Raster Attribute Table: false
Edit Fields Info: {"creationDateField":"created_date","creatorField":"created_user","editDateField":"last_edited_date","editorField":"last_edited_user"}
Ownership Based AccessControl For Rasters: {"allowOthersToDelete":true,"allowOthersToUpdate":true}
Child Resources:
Info
Histograms
Statistics
Key Properties
Legend
Raster Function Infos
Supported Operations:
Export Image
Query
Identify
Measure
Compute Histograms
Compute Statistics Histograms
Get Samples
Compute Class Statistics
Query GPS Info
Find Images
Image to Map
Map to Image
Measure from Image
Image to Map Multiray
Query Boundary
Compute Pixel Location
Compute Angles
Validate
Project